BEGIN:VCALENDAR
VERSION:2.0
PRODID:-//wp-events-plugin.com//7.2.3.1//EN
BEGIN:VEVENT
UID:279@turismosierradefrancia.es
DTSTART;TZID=Europe/Madrid;VALUE=DATE:20260505
DTEND;TZID=Europe/Madrid;VALUE=DATE:20260506
DTSTAMP:20260422T095009Z
URL:https://turismosierradefrancia.es/eventos/escuela-de-alcaldes-en-garci
 buey/
SUMMARY:Escuela de alcaldes en Garcibuey
DESCRIPTION:La localidad de Garcibuey acoge el próximo 5 de mayo de 2026 l
 a 1ª Jornada de la Escuela de Alcaldes bajo el título “Arte y comunida
 d: nuevas oportunidades para la sostenibilidad”\, un encuentro que reuni
 rá a responsables locales\, expertos y participantes para reflexionar sob
 re el papel de la creatividad en el desarrollo rural. La jornada incluye l
 a presentación de un proyecto premiado de turismo sostenible\, una visita
  a iniciativas locales\, ponencias y mesa redonda con profesionales del á
 mbito cultural y social\, además de un coloquio final\, convirtiéndose e
 n una cita clave para compartir ideas y experiencias en torno a la innovac
 ión y el futuro de los pequeños municipios.\n&nbsp\;\n\n\n\n\n\n\n\n\n\n
 \n\n\n
ATTACH;FMTTYPE=image/jpeg:https://turismosierradefrancia.es/wp-content/upl
 oads/2026/04/imageneventoalcaldesgarcibuey.jpeg
CATEGORIES:Otras
LOCATION:https://turismosierradefrancia.es/nuestros-pueblos/garcibuey/
END:VEVENT
BEGIN:VTIMEZONE
TZID:Europe/Madrid
X-LIC-LOCATION:Europe/Madrid
BEGIN:DAYLIGHT
DTSTART:20260329T030000
TZOFFSETFROM:+0100
TZOFFSETTO:+0200
TZNAME:CEST
END:DAYLIGHT
END:VTIMEZONE
END:VCALENDAR