BEGIN:VCALENDAR
VERSION:2.0
PRODID:-//wp-events-plugin.com//7.2.3.1//EN
BEGIN:VEVENT
UID:277@turismosierradefrancia.es
DTSTART;TZID=Europe/Madrid;VALUE=DATE:20260619
DTEND;TZID=Europe/Madrid;VALUE=DATE:20260621
DTSTAMP:20260421T122346Z
URL:https://turismosierradefrancia.es/eventos/mejillon-rock-en-san-martin-
 del-castanar/
SUMMARY:Mejillón Rock en San Martín del Castañar
DESCRIPTION:El festival Mejillón Rock regresa a San Martín del Castañar 
 los días 19 y 20 de junio de 2026\, celebrando su 12ª edición dentro de
  la ya consolidada Fiesta de la Cerveza y el Mejillón\, y reafirmándose 
 como uno de los eventos musicales más destacados de la Sierra de Francia.
  Este encuentro\, que apuesta por la música en directo y el apoyo a banda
 s emergentes y proyectos independientes\, impulsa además una campaña de 
 colaboración y crowdfunding para garantizar su continuidad y crecimiento\
 , invitando a vecinos y visitantes a formar parte activa del festival. Cad
 a aportación contribuye a mantener viva la cultura musical en el entorno 
 rural y a seguir llenando de energía y rock este enclave único\, convirt
 iendo el Mejillón Rock en una cita imprescindible del calendario estival.
 \n&nbsp\;\n\n\n\n\n\n\n\n\n
ATTACH;FMTTYPE=image/jpeg:https://turismosierradefrancia.es/wp-content/upl
 oads/2026/04/mejillonrockimg.png
CATEGORIES:Cultura,Fiestas,Gastronomía
LOCATION:https://turismosierradefrancia.es/nuestros-pueblos/san-martin-del-
 castanar/
END:VEVENT
BEGIN:VTIMEZONE
TZID:Europe/Madrid
X-LIC-LOCATION:Europe/Madrid
BEGIN:DAYLIGHT
DTSTART:20260329T030000
TZOFFSETFROM:+0100
TZOFFSETTO:+0200
TZNAME:CEST
END:DAYLIGHT
END:VTIMEZONE
END:VCALENDAR